BEGIN:VCALENDAR
VERSION:2.0
PRODID:icalendar-ruby
CALSCALE:GREGORIAN
METHOD:PUBLISH
BEGIN:VEVENT
DTSTAMP:20260423T154643Z
UID:335-5862@saintjohnsws.org
DTSTART:20260502T150000Z
DTEND:20260502T180000Z
CLASS:PUBLIC
CREATED:20260422T104652
DESCRIPTION:Join us in a rolling wave of peaceful energy and prayer around 
 the world.\nOur Open House starts at noon\, with a prayer group to "Walk a
 s One for Peace" at 1 p.m. Contact Beth V. (716) 445-5006\, or email praye
 rlabyrinthws@gmail.com with questions. We are looking for a few volunteers
  to greet the community and talk about our Prayer Labyrinth at St. John's.
  No experience needed.
LAST-MODIFIED:20260422T104652
LOCATION:
SUMMARY:Saturday May 2\, 2026
URL;VALUE=URI:https://saintjohnsws.org/events/saturday-may-2-2026/2026-05-0
 2
END:VEVENT
END:VCALENDAR
